Package: hierGWAS Version: 1.39.0 Command: /home/biocbuild/bbs-3.22-bioc/R/bin/R CMD INSTALL hierGWAS StartedAt: 2025-10-24 15:16:21 -0400 (Fri, 24 Oct 2025) EndedAt: 2025-10-24 15:16:48 -0400 (Fri, 24 Oct 2025) EllapsedTime: 27.7 seconds RetCode: 0 Status: OK