Package: hierGWAS Version: 1.40.0 Command: /Library/Frameworks/R.framework/Resources/bin/R CMD build --keep-empty-dirs --no-resave-data hierGWAS StartedAt: 2025-10-31 17:25:36 -0400 (Fri, 31 Oct 2025) EndedAt: 2025-10-31 17:27:25 -0400 (Fri, 31 Oct 2025) EllapsedTime: 108.5 seconds RetCode: 0 Status: OK PackageFile: hierGWAS_1.40.0.tar.gz PackageFileSize: 566.2 KiB