Package: hierGWAS Version: 1.40.0 Command: rm -rf hierGWAS.buildbin-libdir && mkdir hierGWAS.buildbin-libdir && /Users/biocbuild/BBS/utils/build-universal.sh hierGWAS_1.40.0.tar.gz /Library/Frameworks/R.framework/Resources/bin/R hierGWAS.buildbin-libdir StartedAt: 2025-11-01 01:38:34 -0400 (Sat, 01 Nov 2025) EndedAt: 2025-11-01 01:38:43 -0400 (Sat, 01 Nov 2025) EllapsedTime: 9.1 seconds RetCode: 0 Status: OK PackageFile: hierGWAS_1.40.0.tgz PackageFileSize: 553.6 KiB