Package: hicVennDiagram Version: 1.8.0 Command: /home/biocbuild/bbs-3.22-bioc/R/bin/R CMD check --install=check:hicVennDiagram.install-out.txt --library=/home/biocbuild/bbs-3.22-bioc/R/site-library --timings hicVennDiagram_1.8.0.tar.gz StartedAt: 2025-11-01 00:36:45 -0400 (Sat, 01 Nov 2025) EndedAt: 2025-11-01 00:42:51 -0400 (Sat, 01 Nov 2025) EllapsedTime: 366.4 seconds RetCode: 0 Status: OK CheckDir: hicVennDiagram.Rcheck Warnings: 0