Package: hicVennDiagram Version: 1.7.3 Command: /Library/Frameworks/R.framework/Resources/bin/R CMD INSTALL hicVennDiagram StartedAt: 2025-10-24 15:34:59 -0400 (Fri, 24 Oct 2025) EndedAt: 2025-10-24 15:35:49 -0400 (Fri, 24 Oct 2025) EllapsedTime: 50.3 seconds RetCode: 0 Status: OK