Package: hicVennDiagram Version: 1.7.3 Command: rm -rf hicVennDiagram.buildbin-libdir && mkdir hicVennDiagram.buildbin-libdir && /Users/biocbuild/BBS/utils/build-universal.sh hicVennDiagram_1.7.3.tar.gz /Library/Frameworks/R.framework/Resources/bin/R hicVennDiagram.buildbin-libdir StartedAt: 2025-10-25 01:44:41 -0400 (Sat, 25 Oct 2025) EndedAt: 2025-10-25 01:45:33 -0400 (Sat, 25 Oct 2025) EllapsedTime: 52.4 seconds RetCode: 0 Status: OK PackageFile: hicVennDiagram_1.7.3.tgz PackageFileSize: 1.456 MiB