Package: hicVennDiagram Version: 1.7.3 Command: /Library/Frameworks/R.framework/Resources/bin/R CMD build --keep-empty-dirs --no-resave-data hicVennDiagram StartedAt: 2025-10-24 16:43:51 -0400 (Fri, 24 Oct 2025) EndedAt: 2025-10-24 16:44:38 -0400 (Fri, 24 Oct 2025) EllapsedTime: 46.5 seconds RetCode: 0 Status: OK PackageFile: hicVennDiagram_1.7.3.tar.gz PackageFileSize: 1.184 MiB