Package: hicVennDiagram Version: 1.7.3 Command: rm -rf hicVennDiagram.buildbin-libdir && mkdir hicVennDiagram.buildbin-libdir && /Users/biocbuild/BBS/utils/build-universal.sh hicVennDiagram_1.7.3.tar.gz /Library/Frameworks/R.framework/Resources/bin/R hicVennDiagram.buildbin-libdir StartedAt: 2025-10-24 23:06:04 -0400 (Fri, 24 Oct 2025) EndedAt: 2025-10-24 23:06:20 -0400 (Fri, 24 Oct 2025) EllapsedTime: 16.4 seconds RetCode: 0 Status: OK PackageFile: hicVennDiagram_1.7.3.tgz PackageFileSize: 1.456 MiB