Package: hiReadsProcessor Version: 1.45.1 Command: /home/biocbuild/bbs-3.22-bioc/R/bin/R CMD check --install=check:hiReadsProcessor.install-out.txt --library=/home/biocbuild/bbs-3.22-bioc/R/site-library --timings hiReadsProcessor_1.45.1.tar.gz StartedAt: 2025-10-25 00:35:26 -0400 (Sat, 25 Oct 2025) EndedAt: 2025-10-25 00:40:19 -0400 (Sat, 25 Oct 2025) EllapsedTime: 293.3 seconds RetCode: 1 Status: ERROR CheckDir: hiReadsProcessor.Rcheck Warnings: NA