Package: hiReadsProcessor Version: 1.45.1 Command: /Library/Frameworks/R.framework/Resources/bin/R CMD INSTALL hiReadsProcessor StartedAt: 2025-10-24 15:49:10 -0400 (Fri, 24 Oct 2025) EndedAt: 2025-10-24 15:50:03 -0400 (Fri, 24 Oct 2025) EllapsedTime: 53.3 seconds RetCode: 0 Status: OK