Package: hiReadsProcessor Version: 1.45.1 Command: /Library/Frameworks/R.framework/Resources/bin/R CMD build --keep-empty-dirs --no-resave-data hiReadsProcessor StartedAt: 2025-10-24 17:26:02 -0400 (Fri, 24 Oct 2025) EndedAt: 2025-10-24 17:27:16 -0400 (Fri, 24 Oct 2025) EllapsedTime: 74.1 seconds RetCode: 0 Status: OK PackageFile: hiReadsProcessor_1.45.1.tar.gz PackageFileSize: 3.148 MiB