Package: hiAnnotator Version: 1.43.1 Command: /home/biocbuild/bbs-3.22-bioc/R/bin/R CMD INSTALL hiAnnotator StartedAt: 2025-10-24 15:38:35 -0400 (Fri, 24 Oct 2025) EndedAt: 2025-10-24 15:39:09 -0400 (Fri, 24 Oct 2025) EllapsedTime: 34.0 seconds RetCode: 0 Status: OK