Package: h5vc Version: 2.44.0 Command: /Library/Frameworks/R.framework/Resources/bin/R CMD INSTALL h5vc StartedAt: 2025-11-03 15:23:32 -0500 (Mon, 03 Nov 2025) EndedAt: 2025-11-03 15:24:02 -0500 (Mon, 03 Nov 2025) EllapsedTime: 29.8 seconds RetCode: 0 Status: OK