Package: h5vc Version: 2.44.0 Command: rm -rf h5vc.buildbin-libdir && mkdir h5vc.buildbin-libdir && /Users/biocbuild/BBS/utils/build-universal.sh h5vc_2.44.0.tar.gz /Library/Frameworks/R.framework/Resources/bin/R h5vc.buildbin-libdir StartedAt: 2025-11-04 01:44:08 -0500 (Tue, 04 Nov 2025) EndedAt: 2025-11-04 01:44:45 -0500 (Tue, 04 Nov 2025) EllapsedTime: 36.7 seconds RetCode: 0 Status: OK PackageFile: h5vc_2.44.0.tgz PackageFileSize: 2.164 MiB