Package: h5vc Version: 2.43.0 Command: /Library/Frameworks/R.framework/Resources/bin/R CMD INSTALL h5vc StartedAt: 2025-10-24 15:13:29 -0400 (Fri, 24 Oct 2025) EndedAt: 2025-10-24 15:13:38 -0400 (Fri, 24 Oct 2025) EllapsedTime: 8.5 seconds RetCode: 0 Status: OK