Package: h5vc Version: 2.43.0 Command: /Library/Frameworks/R.framework/Resources/bin/R CMD build --keep-empty-dirs --no-resave-data h5vc StartedAt: 2025-10-24 16:41:22 -0400 (Fri, 24 Oct 2025) EndedAt: 2025-10-24 16:43:12 -0400 (Fri, 24 Oct 2025) EllapsedTime: 110.2 seconds RetCode: 0 Status: OK PackageFile: h5vc_2.43.0.tar.gz PackageFileSize: 1.69 MiB