Package: h5vc Version: 2.43.0 Command: rm -rf h5vc.buildbin-libdir && mkdir h5vc.buildbin-libdir && /Users/biocbuild/BBS/utils/build-universal.sh h5vc_2.43.0.tar.gz /Library/Frameworks/R.framework/Resources/bin/R h5vc.buildbin-libdir StartedAt: 2025-10-24 23:05:41 -0400 (Fri, 24 Oct 2025) EndedAt: 2025-10-24 23:05:51 -0400 (Fri, 24 Oct 2025) EllapsedTime: 10.2 seconds RetCode: 0 Status: OK PackageFile: h5vc_2.43.0.tgz PackageFileSize: 2.137 MiB