Package: h5vc Version: 2.44.0 Maintainer: Paul Theodor Pyl MaintainerEmail: paul.theodor.pyl at gmail.com git_url: https://git.bioconductor.org/packages/h5vc git_branch: RELEASE_3_22 git_last_commit: 159497f git_last_commit_date: 2025-10-29 10:17:13 -0400 (Wed, 29 Oct 2025)