Package: gwasurvivr Version: 1.28.0 Command: /home/biocbuild/bbs-3.22-bioc/R/bin/R CMD INSTALL gwasurvivr StartedAt: 2025-11-14 15:46:41 -0500 (Fri, 14 Nov 2025) EndedAt: 2025-11-14 15:47:24 -0500 (Fri, 14 Nov 2025) EllapsedTime: 43.4 seconds RetCode: 0 Status: OK