Package: gwasurvivr Version: 1.28.0 Command: /home/biocbuild/bbs-3.22-bioc/R/bin/R CMD build --keep-empty-dirs --no-resave-data --md5 gwasurvivr StartedAt: 2025-11-14 18:06:39 -0500 (Fri, 14 Nov 2025) EndedAt: 2025-11-14 18:08:57 -0500 (Fri, 14 Nov 2025) EllapsedTime: 138.2 seconds RetCode: 0 Status: OK PackageFile: gwasurvivr_1.28.0.tar.gz PackageFileSize: 344.9 KiB