Package: gtrellis Version: 1.41.0 Command: /home/biocbuild/bbs-3.22-bioc/R/bin/R CMD build --keep-empty-dirs --no-resave-data --md5 gtrellis StartedAt: 2025-10-24 18:10:51 -0400 (Fri, 24 Oct 2025) EndedAt: 2025-10-24 18:13:17 -0400 (Fri, 24 Oct 2025) EllapsedTime: 146.2 seconds RetCode: 0 Status: OK PackageFile: gtrellis_1.41.0.tar.gz PackageFileSize: 2.726 MiB