Package: gtrellis Version: 1.42.0 Command: /Library/Frameworks/R.framework/Resources/bin/R CMD build --keep-empty-dirs --no-resave-data gtrellis StartedAt: 2025-11-10 16:38:34 -0500 (Mon, 10 Nov 2025) EndedAt: 2025-11-10 16:39:23 -0500 (Mon, 10 Nov 2025) EllapsedTime: 48.5 seconds RetCode: 0 Status: OK PackageFile: gtrellis_1.42.0.tar.gz PackageFileSize: 4.044 MiB