Package: gsean Version: 1.29.0 Command: /home/biocbuild/bbs-3.22-bioc/R/bin/R CMD INSTALL gsean StartedAt: 2025-10-24 15:42:43 -0400 (Fri, 24 Oct 2025) EndedAt: 2025-10-24 15:43:07 -0400 (Fri, 24 Oct 2025) EllapsedTime: 23.6 seconds RetCode: 0 Status: OK