Package: gsean Version: 1.30.0 Command: /home/biocbuild/bbs-3.22-bioc/R/bin/R CMD check --install=check:gsean.install-out.txt --library=/home/biocbuild/bbs-3.22-bioc/R/site-library --timings gsean_1.30.0.tar.gz StartedAt: 2025-11-01 00:25:48 -0400 (Sat, 01 Nov 2025) EndedAt: 2025-11-01 00:29:56 -0400 (Sat, 01 Nov 2025) EllapsedTime: 248.3 seconds RetCode: 0 Status: OK CheckDir: gsean.Rcheck Warnings: 0