Package: gsean Version: 1.29.0 Command: /Library/Frameworks/R.framework/Resources/bin/R CMD INSTALL gsean StartedAt: 2025-10-24 15:38:49 -0400 (Fri, 24 Oct 2025) EndedAt: 2025-10-24 15:39:22 -0400 (Fri, 24 Oct 2025) EllapsedTime: 33.9 seconds RetCode: 0 Status: OK