Package: gsean Version: 1.29.0 Command: /Library/Frameworks/R.framework/Resources/bin/R CMD build --keep-empty-dirs --no-resave-data gsean StartedAt: 2025-10-24 17:20:23 -0400 (Fri, 24 Oct 2025) EndedAt: 2025-10-24 17:21:38 -0400 (Fri, 24 Oct 2025) EllapsedTime: 74.6 seconds RetCode: 0 Status: OK PackageFile: gsean_1.29.0.tar.gz PackageFileSize: 1.534 MiB