Package: gsean Version: 1.29.0 Command: rm -rf gsean.buildbin-libdir && mkdir gsean.buildbin-libdir && /Users/biocbuild/BBS/utils/build-universal.sh gsean_1.29.0.tar.gz /Library/Frameworks/R.framework/Resources/bin/R gsean.buildbin-libdir StartedAt: 2025-10-25 01:43:50 -0400 (Sat, 25 Oct 2025) EndedAt: 2025-10-25 01:44:30 -0400 (Sat, 25 Oct 2025) EllapsedTime: 40.4 seconds RetCode: 0 Status: OK PackageFile: gsean_1.29.0.tgz PackageFileSize: 1.559 MiB