Package: gsean Version: 1.29.0 Command: /Library/Frameworks/R.framework/Resources/bin/R CMD INSTALL gsean StartedAt: 2025-10-27 15:10:04 -0400 (Mon, 27 Oct 2025) EndedAt: 2025-10-27 15:10:15 -0400 (Mon, 27 Oct 2025) EllapsedTime: 10.5 seconds RetCode: 0 Status: OK