Package: gsean Version: 1.29.0 Command: /Library/Frameworks/R.framework/Resources/bin/R CMD build --keep-empty-dirs --no-resave-data gsean StartedAt: 2025-10-26 16:45:46 -0400 (Sun, 26 Oct 2025) EndedAt: 2025-10-26 16:46:08 -0400 (Sun, 26 Oct 2025) EllapsedTime: 22.2 seconds RetCode: 0 Status: OK PackageFile: gsean_1.29.0.tar.gz PackageFileSize: 1.535 MiB