Package: gscreend Version: 1.23.0 Command: /home/biocbuild/bbs-3.22-bioc/R/bin/R CMD INSTALL gscreend StartedAt: 2025-10-24 15:28:48 -0400 (Fri, 24 Oct 2025) EndedAt: 2025-10-24 15:29:09 -0400 (Fri, 24 Oct 2025) EllapsedTime: 21.1 seconds RetCode: 0 Status: OK