Package: gscreend Version: 1.24.0 Command: /Library/Frameworks/R.framework/Resources/bin/R CMD INSTALL gscreend StartedAt: 2025-11-03 15:24:26 -0500 (Mon, 03 Nov 2025) EndedAt: 2025-11-03 15:24:55 -0500 (Mon, 03 Nov 2025) EllapsedTime: 28.9 seconds RetCode: 0 Status: OK