Package: gscreend Version: 1.24.0 Command: rm -rf gscreend.buildbin-libdir && mkdir gscreend.buildbin-libdir && /Users/biocbuild/BBS/utils/build-universal.sh gscreend_1.24.0.tar.gz /Library/Frameworks/R.framework/Resources/bin/R gscreend.buildbin-libdir StartedAt: 2025-11-04 01:43:51 -0500 (Tue, 04 Nov 2025) EndedAt: 2025-11-04 01:44:25 -0500 (Tue, 04 Nov 2025) EllapsedTime: 34.6 seconds RetCode: 0 Status: OK PackageFile: gscreend_1.24.0.tgz PackageFileSize: 3.172 MiB