Package: gscreend Version: 1.23.0 Command: /Library/Frameworks/R.framework/Resources/bin/R CMD INSTALL gscreend StartedAt: 2025-10-24 15:14:27 -0400 (Fri, 24 Oct 2025) EndedAt: 2025-10-24 15:14:36 -0400 (Fri, 24 Oct 2025) EllapsedTime: 9.2 seconds RetCode: 0 Status: OK