Package: gscreend Version: 1.23.0 Command: /Library/Frameworks/R.framework/Resources/bin/R CMD build --keep-empty-dirs --no-resave-data gscreend StartedAt: 2025-10-24 16:39:37 -0400 (Fri, 24 Oct 2025) EndedAt: 2025-10-24 16:40:30 -0400 (Fri, 24 Oct 2025) EllapsedTime: 52.5 seconds RetCode: 0 Status: OK PackageFile: gscreend_1.23.0.tar.gz PackageFileSize: 3.114 MiB