Package: graphite Version: 1.56.0 Command: /Library/Frameworks/R.framework/Resources/bin/R CMD INSTALL graphite StartedAt: 2025-11-03 15:27:26 -0500 (Mon, 03 Nov 2025) EndedAt: 2025-11-03 15:27:47 -0500 (Mon, 03 Nov 2025) EllapsedTime: 21.6 seconds RetCode: 0 Status: OK