Package: graphite Version: 1.56.0 Command: /Library/Frameworks/R.framework/Resources/bin/R CMD build --keep-empty-dirs --no-resave-data graphite StartedAt: 2025-11-03 17:15:35 -0500 (Mon, 03 Nov 2025) EndedAt: 2025-11-03 17:16:43 -0500 (Mon, 03 Nov 2025) EllapsedTime: 67.5 seconds RetCode: 0 Status: OK PackageFile: graphite_1.56.0.tar.gz PackageFileSize: 772.2 KiB