Package: graphite Version: 1.55.3 Command: /Library/Frameworks/R.framework/Resources/bin/R CMD build --keep-empty-dirs --no-resave-data graphite StartedAt: 2025-10-24 16:39:13 -0400 (Fri, 24 Oct 2025) EndedAt: 2025-10-24 16:39:39 -0400 (Fri, 24 Oct 2025) EllapsedTime: 26.3 seconds RetCode: 0 Status: OK PackageFile: graphite_1.55.3.tar.gz PackageFileSize: 773.5 KiB