Package: graphite Version: 1.55.3 Command: rm -rf graphite.buildbin-libdir && mkdir graphite.buildbin-libdir && /Users/biocbuild/BBS/utils/build-universal.sh graphite_1.55.3.tar.gz /Library/Frameworks/R.framework/Resources/bin/R graphite.buildbin-libdir StartedAt: 2025-10-24 23:05:23 -0400 (Fri, 24 Oct 2025) EndedAt: 2025-10-24 23:05:29 -0400 (Fri, 24 Oct 2025) EllapsedTime: 6.1 seconds RetCode: 0 Status: OK PackageFile: graphite_1.55.3.tgz PackageFileSize: 917.4 KiB