Package: graph Version: 1.87.0 Command: /home/biocbuild/R/R/bin/R CMD INSTALL graph StartedAt: 2025-10-23 20:30:18 -0000 (Thu, 23 Oct 2025) EndedAt: 2025-10-23 20:30:35 -0000 (Thu, 23 Oct 2025) EllapsedTime: 16.8 seconds RetCode: 0 Status: OK