Package: graph Version: 1.87.0 Command: /home/biocbuild/R/R/bin/R CMD build --keep-empty-dirs --no-resave-data graph StartedAt: 2025-10-21 00:17:42 -0000 (Tue, 21 Oct 2025) EndedAt: 2025-10-21 00:18:24 -0000 (Tue, 21 Oct 2025) EllapsedTime: 42.0 seconds RetCode: 0 Status: OK PackageFile: graph_1.87.0.tar.gz PackageFileSize: 1.514 MiB