Package: graph Version: 1.88.0 Command: /home/biocbuild/bbs-3.22-bioc/R/bin/R CMD check --install=check:graph.install-out.txt --library=/home/biocbuild/bbs-3.22-bioc/R/site-library --timings graph_1.88.0.tar.gz StartedAt: 2025-10-30 06:35:06 -0400 (Thu, 30 Oct 2025) EndedAt: 2025-10-30 06:36:14 -0400 (Thu, 30 Oct 2025) EllapsedTime: 68.1 seconds RetCode: 0 Status: OK CheckDir: graph.Rcheck Warnings: 0