Package: graph Version: 1.87.0 Command: /Library/Frameworks/R.framework/Resources/bin/R CMD build --keep-empty-dirs --no-resave-data graph StartedAt: 2025-10-24 17:18:55 -0400 (Fri, 24 Oct 2025) EndedAt: 2025-10-24 17:19:37 -0400 (Fri, 24 Oct 2025) EllapsedTime: 42.2 seconds RetCode: 0 Status: OK PackageFile: graph_1.87.0.tar.gz PackageFileSize: 1.435 MiB