Package: graph Version: 1.87.0 Command: rm -rf graph.buildbin-libdir && mkdir graph.buildbin-libdir && /Users/biocbuild/BBS/utils/build-universal.sh graph_1.87.0.tar.gz /Library/Frameworks/R.framework/Resources/bin/R graph.buildbin-libdir StartedAt: 2025-10-25 01:43:35 -0400 (Sat, 25 Oct 2025) EndedAt: 2025-10-25 01:43:57 -0400 (Sat, 25 Oct 2025) EllapsedTime: 22.1 seconds RetCode: 0 Status: OK PackageFile: graph_1.87.0.tgz PackageFileSize: 2.103 MiB