Package: graph Version: 1.87.0 Command: /Library/Frameworks/R.framework/Resources/bin/R CMD build --keep-empty-dirs --no-resave-data graph StartedAt: 2025-10-24 16:38:59 -0400 (Fri, 24 Oct 2025) EndedAt: 2025-10-24 16:39:12 -0400 (Fri, 24 Oct 2025) EllapsedTime: 13.1 seconds RetCode: 0 Status: OK PackageFile: graph_1.87.0.tar.gz PackageFileSize: 1.435 MiB