Package: graper Version: 1.25.2 Command: /home/biocbuild/bbs-3.22-bioc/R/bin/R CMD INSTALL graper StartedAt: 2025-10-24 15:18:57 -0400 (Fri, 24 Oct 2025) EndedAt: 2025-10-24 15:19:39 -0400 (Fri, 24 Oct 2025) EllapsedTime: 42.1 seconds RetCode: 0 Status: OK