Package: graper Version: 1.25.2 Command: /home/biocbuild/bbs-3.22-bioc/R/bin/R CMD build --keep-empty-dirs --no-resave-data --md5 graper StartedAt: 2025-10-24 18:07:34 -0400 (Fri, 24 Oct 2025) EndedAt: 2025-10-24 18:08:36 -0400 (Fri, 24 Oct 2025) EllapsedTime: 62.0 seconds RetCode: 0 Status: OK PackageFile: graper_1.25.2.tar.gz PackageFileSize: 987.7 KiB