Package: graper Version: 1.26.0 Command: /Library/Frameworks/R.framework/Resources/bin/R CMD INSTALL graper StartedAt: 2025-10-31 15:08:27 -0400 (Fri, 31 Oct 2025) EndedAt: 2025-10-31 15:08:37 -0400 (Fri, 31 Oct 2025) EllapsedTime: 9.9 seconds RetCode: 0 Status: OK