Package: graper Version: 1.26.0 Command: /Library/Frameworks/R.framework/Resources/bin/R CMD build --keep-empty-dirs --no-resave-data graper StartedAt: 2025-10-31 16:40:41 -0400 (Fri, 31 Oct 2025) EndedAt: 2025-10-31 16:41:06 -0400 (Fri, 31 Oct 2025) EllapsedTime: 25.3 seconds RetCode: 0 Status: OK PackageFile: graper_1.26.0.tar.gz PackageFileSize: 929.6 KiB