Package: graper Version: 1.26.0 Command: rm -rf graper.buildbin-libdir && mkdir graper.buildbin-libdir && /Users/biocbuild/BBS/utils/build-universal.sh graper_1.26.0.tar.gz /Library/Frameworks/R.framework/Resources/bin/R graper.buildbin-libdir StartedAt: 2025-10-31 23:09:26 -0400 (Fri, 31 Oct 2025) EndedAt: 2025-10-31 23:09:37 -0400 (Fri, 31 Oct 2025) EllapsedTime: 11.2 seconds RetCode: 0 Status: OK PackageFile: graper_1.26.0.tgz PackageFileSize: 1.113 MiB