Package: gpuMagic Version: 1.25.1 Command: /Library/Frameworks/R.framework/Resources/bin/R CMD build --keep-empty-dirs --no-resave-data gpuMagic StartedAt: 2025-10-24 17:18:16 -0400 (Fri, 24 Oct 2025) EndedAt: 2025-10-24 17:19:03 -0400 (Fri, 24 Oct 2025) EllapsedTime: 46.8 seconds RetCode: 0 Status: OK PackageFile: gpuMagic_1.25.1.tar.gz PackageFileSize: 737.1 KiB